BEGIN:VCALENDAR
VERSION:2.0
PRODID:-//hacksw/handcal//NONSGML v1.0//EN
CALSCALE:GREGORIAN
BEGIN:VEVENT
UID:69e9f4c0ec41e
SEQUENCE:0
DESCRIPTION:なぜ今、AIを学ぶ必要があるのか　ゼロからわかる「さくらのAI検定」入門セミナー
DTSTART:20260527T040000Z
DTEND:20260527T050000Z
SUMMARY:なぜ今、AIを学ぶ必要があるのか　ゼロからわかる「さくらのAI検定」入門セミナー
LOCATION:オンライン（Zoom）
URL:https://eventform.sakura.ad.jp/event/131404/webinar
DTSTAMP:20260423T193024Z
END:VEVENT
END:VCALENDAR