BEGIN:VCALENDAR
VERSION:2.0
PRODID:-//hacksw/handcal//NONSGML v1.0//EN
CALSCALE:GREGORIAN
BEGIN:VEVENT
UID:69e9f7864080e
SEQUENCE:0
DESCRIPTION:メール到達率向上を実現する新プラン「さくらのビジネスメール」解説セミナー
DTSTART:20260527T060000Z
DTEND:20260527T065000Z
SUMMARY:メール到達率向上を実現する新プラン「さくらのビジネスメール」解説セミナー
LOCATION:オンライン（Zoom）
URL:https://eventform.sakura.ad.jp/event/131407/webinar
DTSTAMP:20260423T194214Z
END:VEVENT
END:VCALENDAR